BEGIN:VCALENDAR
VERSION:2.0
PRODID:http://www.st-lydia.de
BEGIN:VEVENT
UID:1f9e83b3-3fad-11f1-a3e9-0242ac11002b-1780243200000-de
DTSTAMP:20260424T071341Z
DTSTART:20260531T160000Z
DTEND:20260531T173000Z
SUMMARY;LANGUAGE=de:„Unplugged“ Konzert mit Da Chor aus Ellern in Liebshausen
DESCRIPTION;LANGUAGE=de:Liebshausen. Wenn ein Mikrofon genügt\, um eine ganze Kirche zum Klingen zu bringen\, dann ist klar: Hier geht es nicht um Lautstärke – hier geht es um Seele. Genau das verspricht das „unplugged“-Chorkonzert des Männerchors DaChor aus Ellern\, das am Sonntag\, 31. Mai 2026\, um 18 Uhr in der katholischen Kirche St. Antonius in Liebshausen stattfindet.\nUnter der musikalischen Leitung von Musikdirektor Heinz-Gunther Ackva präsentiert der Chor ein Programm\, das sich hören lassen kann: Balladen\, Pop-\, Rock- und Love-Songs\, allesamt in reiner\, unverstärkter Klangkraft – nahbar\, warm und voller Emotion. Wer DaChor kennt\, weiß: Hier wird nicht einfach gesungen. Hier wird erzählt\, berührt\, überrascht.\nDie Kirche St. Antonius bietet dafür den perfekten Rahmen: ein Raum\, der Klang trägt\, Stille zulässt und Atmosphäre schenkt. Ein Raum\, in dem Musik nicht nur gehört\, sondern gespürt wird.\nDer Eintritt ist frei\, Spenden sind willkommen.\nWer einen Abend voller Gänsehaut-Momente\, musikalischer Überraschungen und echter Leidenschaft erleben möchte\, sollte sich diesen Termin vormerken. Liebshausen darf sich auf ein Konzert freuen\, das zeigt\, wie lebendig\, modern und berührend Männerchor heute klingen kann.
LOCATION;LANGUAGE=de:St. Antonius Liebshausen\, 55494 Liebshausen
IMAGE;VALUE=URI;DISPLAY=BADGE;FMTTYPE=image/jpeg:http://www.st-lydia.de/export/sites/pfarreien/pfarrei-simmern-rheinboellen-st.-lydia/.galleries/bilder/DaChor-Ellern.jpeg
END:VEVENT
END:VCALENDAR
