BEGIN:VCALENDAR
VERSION:2.0
PRODID:http://www.st-lydia.de
BEGIN:VEVENT
UID:1f3f94ff-4083-11f1-a3e9-0242ac11002b-1778575500000-de
DTSTAMP:20260425T084533Z
DTSTART:20260512T084500Z
DTEND:20260512T170000Z
SUMMARY;LANGUAGE=de:AK Caritas & Soziales: Ausflug an die Deutsche Weinstraße
DESCRIPTION;LANGUAGE=de:Wir laden Sie herzlich ein zu einer kleinen Reise an die deutsche Weinstraße. St. Martin ist unser erstes Ziel. Hier werden wir in der Pfarrkirche im Marienmonat Mai eine Andacht gestalten und anschließend im malerischen Ortskern in einem urtypischen Gastraum\, geprägt von pfälzischer Geselligkeit\, zu Mittag essen.\nJetzt fahren wir zum „Schatzkästle“ in der Pfalz\, dem schmucken und geschichtsträchtigen Rhodt unter Rietberg. Wir flanieren in der bekanntesten und schönsten historischen Straße in der Pfalz\, der Theresienstraße\, wo dereinst Königin Theresia und ihr Gemahl König Ludwig I. in der Nähe ihre Sommerresidenz hatten.\nMit dem Besuch des Café Ludwig ist folgerichtig unser Ausflug in die Pfalz beendet\, bevor es um 17.00 Uhr wieder nach Hause geht.\nAbfahrt in Simmern (Witzenrath) 09:15 Uhr\, altes Hallenbad 09:30 Uhr.\nDer Preis für den Bus beträgt 30\,00 €. Anmeldeschluss ist der 06. Mai 2026.\nFrau Renate von Staden Tel. 06761 5705 und Frau Senta Schneider Tel. 06761/7500 nehmen gerne Ihren Anruf entgegen. Bitte sprechen Sie auch auf den Anrufbeantworter.
IMAGE;VALUE=URI;DISPLAY=BADGE;FMTTYPE=image/jpeg:http://www.st-lydia.de/export/sites/pfarreien/pfarrei-simmern-rheinboellen-st.-lydia/.galleries/bilder/deutsche-weinstrasse.jpg
END:VEVENT
END:VCALENDAR
